BEGIN:VCALENDAR
VERSION:2.0
PRODID:-//https://www.trampofthecentury.com///NONSGML kigkonsult.se iCalcreator 2.10.15//
METHOD:PUBLISH
BEGIN:VEVENT
UID:20260421T190607UTC-8731IVb5FE@https://www.trampofthecentury.com/
DTSTAMP:20260421T190607Z
DESCRIPTION: https://trampofthecentury.com/fr/spectacles/spectacles-passes/
 evenement/202-port-theater-cornwall
DTSTART;VALUE=DATE:20251004
LOCATION:132 Montreal Rd\, Cornwall\, ON K6H 1B3 ()
SUMMARY:Port Theater Cornwall
URL:https://trampofthecentury.com/fr/spectacles/spectacles-passes/evenement
 /202-port-theater-cornwall
END:VEVENT
END:VCALENDAR
