BEGIN:VCALENDAR
VERSION:2.0
PRODID:-//https://www.trampofthecentury.com///NONSGML kigkonsult.se iCalcreator 2.10.15//
METHOD:PUBLISH
BEGIN:VEVENT
UID:20260421T190608UTC-8130gP5N4l@https://www.trampofthecentury.com/
DTSTAMP:20260421T190608Z
DESCRIPTION: https://trampofthecentury.com/fr/spectacles/spectacles-passes/
 evenement/200-la-creche-cabaret
DTSTART;VALUE=DATE:20251122
LOCATION:641 rue principale\, st-cléophas-de-brandon ()
SUMMARY:La crèche Cabaret
URL:https://trampofthecentury.com/fr/spectacles/spectacles-passes/evenement
 /200-la-creche-cabaret
END:VEVENT
END:VCALENDAR
