BEGIN:VCALENDAR
VERSION:2.0
PRODID:-//https://www.trampofthecentury.com///NONSGML kigkonsult.se iCalcreator 2.10.15//
METHOD:PUBLISH
BEGIN:VEVENT
UID:20260421T190906UTC-9731V07vix@https://www.trampofthecentury.com/
DTSTAMP:20260421T190906Z
DESCRIPTION: https://trampofthecentury.com/fr/spectacles/spectacles-passes/
 evenement/197-le-rouge-steakhouse-repentigny
DTSTART;VALUE=DATE:20251024
LOCATION:364 rue Notre-Dame\, Repentigny  ()
SUMMARY:Le Rouge Steakhouse\, Repentigny 
URL:https://trampofthecentury.com/fr/spectacles/spectacles-passes/evenement
 /197-le-rouge-steakhouse-repentigny
END:VEVENT
END:VCALENDAR
