BEGIN:VCALENDAR
VERSION:2.0
PRODID:-//https://www.trampofthecentury.com///NONSGML kigkonsult.se iCalcreator 2.10.15//
METHOD:PUBLISH
BEGIN:VEVENT
UID:20260421T190553UTC-1124ux0VVo@https://www.trampofthecentury.com/
DTSTAMP:20260421T190553Z
DESCRIPTION: https://trampofthecentury.com/fr/spectacles/spectacles-passes/
 evenement/195-le-top-shot
DTSTART;VALUE=DATE:20250912
LOCATION:417 rue principale\, Lachute ()
SUMMARY:LE TOP SHOT
URL:https://trampofthecentury.com/fr/spectacles/spectacles-passes/evenement
 /195-le-top-shot
END:VEVENT
END:VCALENDAR
