BEGIN:VCALENDAR
VERSION:2.0
PRODID:-//https://www.trampofthecentury.com///NONSGML kigkonsult.se iCalcreator 2.10.15//
METHOD:PUBLISH
BEGIN:VEVENT
UID:20260421T190731UTC-0493OCdHUr@https://www.trampofthecentury.com/
DTSTAMP:20260421T190731Z
DESCRIPTION: https://trampofthecentury.com/fr/spectacles/spectacles-passes/
 evenement/193-oshawa-reagent-theater
DTSTART;VALUE=DATE:20250404
LOCATION:50 King Street East\,  Oshawa\, Ontario\, L1H 1B3 ()
SUMMARY:Oshawa REAGENT Theater
URL:https://trampofthecentury.com/fr/spectacles/spectacles-passes/evenement
 /193-oshawa-reagent-theater
END:VEVENT
END:VCALENDAR
