BEGIN:VCALENDAR
VERSION:2.0
PRODID:-//https://www.trampofthecentury.com///NONSGML kigkonsult.se iCalcreator 2.10.15//
METHOD:PUBLISH
BEGIN:VEVENT
UID:20260421T190906UTC-4859UtP3hg@https://www.trampofthecentury.com/
DTSTAMP:20260421T190906Z
DESCRIPTION: https://trampofthecentury.com/fr/spectacles/spectacles-passes/
 evenement/192-kingston-the-spire-arts-community-hub
DTSTART;VALUE=DATE:20250405
LOCATION:82 Sydenham street Kingston\, Ontario\, K7L 3H4 ()
SUMMARY:Kingston The Spire Arts & community Hub
URL:https://trampofthecentury.com/fr/spectacles/spectacles-passes/evenement
 /192-kingston-the-spire-arts-community-hub
END:VEVENT
END:VCALENDAR
