BEGIN:VCALENDAR
VERSION:2.0
PRODID:-//https://www.trampofthecentury.com///NONSGML kigkonsult.se iCalcreator 2.10.15//
METHOD:PUBLISH
BEGIN:VEVENT
UID:20260421T190551UTC-0997vtbUhP@https://www.trampofthecentury.com/
DTSTAMP:20260421T190551Z
DESCRIPTION: https://trampofthecentury.com/fr/spectacles/spectacles-passes/
 evenement/191-lindsay-academy
DTSTART;VALUE=DATE:20250403
LOCATION:2 Lindsay Street South\,  Lindsay\,  Ontario\, K9V 2L6 ()
SUMMARY:Lindsay Academy
URL:https://trampofthecentury.com/fr/spectacles/spectacles-passes/evenement
 /191-lindsay-academy
END:VEVENT
END:VCALENDAR
