BEGIN:VCALENDAR
VERSION:2.0
PRODID:-//https://www.trampofthecentury.com///NONSGML kigkonsult.se iCalcreator 2.10.15//
METHOD:PUBLISH
BEGIN:VEVENT
UID:20260421T190609UTC-8249zVbZWx@https://www.trampofthecentury.com/
DTSTAMP:20260421T190609Z
DESCRIPTION: https://trampofthecentury.com/fr/spectacles/spectacles-passes/
 evenement/190-bistro-allegro
DTSTART;VALUE=DATE:20251101
LOCATION:Café Bistro Allegro (3091 Boulevard de Mascouche\, Mascouche\, QC 
 J7K\, Canada)
SUMMARY:Bistro Allegro
URL:https://trampofthecentury.com/fr/spectacles/spectacles-passes/evenement
 /190-bistro-allegro
END:VEVENT
END:VCALENDAR
