BEGIN:VCALENDAR
VERSION:2.0
PRODID:-//https://www.trampofthecentury.com///NONSGML kigkonsult.se iCalcreator 2.10.15//
METHOD:PUBLISH
BEGIN:VEVENT
UID:20260421T190722UTC-5979Ic2RSI@https://www.trampofthecentury.com/
DTSTAMP:20260421T190722Z
DESCRIPTION: https://trampofthecentury.com/fr/spectacles/spectacles-passes/
 evenement/189-centre-arts-shenkman
DTSTART;VALUE=DATE:20250406
LOCATION:245 Centrum Blvd\, Orléans\, ON K1E 0A1 ()
SUMMARY:CENTRE ARTS SHENKMAN
URL:https://trampofthecentury.com/fr/spectacles/spectacles-passes/evenement
 /189-centre-arts-shenkman
END:VEVENT
END:VCALENDAR
