BEGIN:VCALENDAR
VERSION:2.0
PRODID:-//https://www.trampofthecentury.com///NONSGML kigkonsult.se iCalcreator 2.10.15//
METHOD:PUBLISH
BEGIN:VEVENT
UID:20260421T190755UTC-6302rXk4du@https://www.trampofthecentury.com/
DTSTAMP:20260421T190755Z
DESCRIPTION: https://trampofthecentury.com/fr/spectacles/spectacles-passes/
 evenement/188-theatre-des-grand-chenes
DTSTART;VALUE=DATE:20250607
LOCATION:356 Bd Marie Victorin\, Kingsey Falls\, QC J0A 1B0 ()
SUMMARY:THÉÂTRE DES GRAND CHÊNES 
URL:https://trampofthecentury.com/fr/spectacles/spectacles-passes/evenement
 /188-theatre-des-grand-chenes
END:VEVENT
END:VCALENDAR
