BEGIN:VCALENDAR
VERSION:2.0
PRODID:-//https://www.trampofthecentury.com///NONSGML kigkonsult.se iCalcreator 2.10.15//
METHOD:PUBLISH
BEGIN:VEVENT
UID:20260421T190543UTC-5308VkGCVI@https://www.trampofthecentury.com/
DTSTAMP:20260421T190543Z
DESCRIPTION: https://trampofthecentury.com/fr/spectacles/spectacles-passes/
 evenement/187-le-calypso
DTSTART;VALUE=DATE:20250524
LOCATION:Le Calypso\, 3812\, rue d'Auteuil\, Jonquière  ()
SUMMARY:LE CALYPSO
URL:https://trampofthecentury.com/fr/spectacles/spectacles-passes/evenement
 /187-le-calypso
END:VEVENT
END:VCALENDAR
