BEGIN:VCALENDAR
VERSION:2.0
PRODID:-//https://www.trampofthecentury.com///NONSGML kigkonsult.se iCalcreator 2.10.15//
METHOD:PUBLISH
BEGIN:VEVENT
UID:20260421T190733UTC-0577xJA8bS@https://www.trampofthecentury.com/
DTSTAMP:20260421T190733Z
DESCRIPTION: https://trampofthecentury.com/fr/spectacles/spectacles-passes/
 evenement/185-casino-de-montreal
DTSTART;VALUE=DATE:20250502
LOCATION:CASINO DE MONTREAL 1 avenue du Casino\, Montreal ()
SUMMARY:CASINO DE MONTREAL
URL:https://trampofthecentury.com/fr/spectacles/spectacles-passes/evenement
 /185-casino-de-montreal
END:VEVENT
END:VCALENDAR
