BEGIN:VCALENDAR
VERSION:2.0
PRODID:-//https://www.trampofthecentury.com///NONSGML kigkonsult.se iCalcreator 2.10.15//
METHOD:PUBLISH
BEGIN:VEVENT
UID:20260421T190740UTC-2663l1ShZv@https://www.trampofthecentury.com/
DTSTAMP:20260421T190740Z
DESCRIPTION: https://trampofthecentury.com/fr/spectacles/spectacles-passes/
 evenement/183-casino-du-lac-leamy
DTSTART;VALUE=DATE:20250426
LOCATION:1 BOUL DU CASINO\, GATINEAU ()
SUMMARY:CASINO DU LAC LEAMY
URL:https://trampofthecentury.com/fr/spectacles/spectacles-passes/evenement
 /183-casino-du-lac-leamy
END:VEVENT
END:VCALENDAR
