BEGIN:VCALENDAR
VERSION:2.0
PRODID:-//https://www.trampofthecentury.com///NONSGML kigkonsult.se iCalcreator 2.10.15//
METHOD:PUBLISH
BEGIN:VEVENT
UID:20260421T190540UTC-34040gmasf@https://www.trampofthecentury.com/
DTSTAMP:20260421T190540Z
DESCRIPTION: https://trampofthecentury.com/fr/spectacles/spectacles-passes/
 evenement/182-le-capitole-de-quebec
DTSTART;VALUE=DATE:20250207
LOCATION:Capitole de Québec (972 Rue Saint-Jean\, Ville de Québec\, QC G1R 
 1R5\, Canada)
SUMMARY:LE CAPITOLE DE QUÉBEC
URL:https://trampofthecentury.com/fr/spectacles/spectacles-passes/evenement
 /182-le-capitole-de-quebec
END:VEVENT
END:VCALENDAR
