BEGIN:VCALENDAR
VERSION:2.0
PRODID:-//https://www.trampofthecentury.com///NONSGML kigkonsult.se iCalcreator 2.10.15//
METHOD:PUBLISH
BEGIN:VEVENT
UID:20260421T190706UTC-4231cfddGx@https://www.trampofthecentury.com/
DTSTAMP:20260421T190706Z
DESCRIPTION: https://trampofthecentury.com/fr/spectacles/spectacles-passes/
 evenement/181-bar-chez-maurice
DTSTART;VALUE=DATE:20250125
LOCATION:1897 Chemin Ste Angélique\, Saint-Lazare\, QC J7T 2Y2 ()
SUMMARY:BAR CHEZ MAURICE
URL:https://trampofthecentury.com/fr/spectacles/spectacles-passes/evenement
 /181-bar-chez-maurice
END:VEVENT
END:VCALENDAR
