BEGIN:VCALENDAR
VERSION:2.0
PRODID:-//https://www.trampofthecentury.com///NONSGML kigkonsult.se iCalcreator 2.10.15//
METHOD:PUBLISH
BEGIN:VEVENT
UID:20260421T191203UTC-9926pniu4M@https://www.trampofthecentury.com/
DTSTAMP:20260421T191203Z
DESCRIPTION: https://trampofthecentury.com/fr/spectacles/spectacles-passes/
 evenement/140-cabaret-les-annees-folles
DTSTART;VALUE=DATE:20250315
LOCATION:Cabaret les années folles (143 rue des traversier\, Sorel)
SUMMARY:CABARET LES ANNÉES FOLLES
URL:https://trampofthecentury.com/fr/spectacles/spectacles-passes/evenement
 /140-cabaret-les-annees-folles
END:VEVENT
END:VCALENDAR
