BEGIN:VCALENDAR
VERSION:2.0
PRODID:-//https://www.trampofthecentury.com///NONSGML kigkonsult.se iCalcreator 2.10.15//
METHOD:PUBLISH
BEGIN:VEVENT
UID:20260421T190907UTC-2181cfIgdG@https://www.trampofthecentury.com/
DTSTAMP:20260421T190907Z
DESCRIPTION: https://trampofthecentury.com/fr/spectacles/spectacles-passes/
 evenement/119-bistro-bar-rossignole-souper-spectacle
DTSTART;VALUE=DATE:20250321
LOCATION:5580 boul. des Rossignols\, laval (5580 Boul. Des Rossignols\, Lav
 al)
SUMMARY:Bistro Bar Rossignole SOUPER-SPECTACLE
URL:https://trampofthecentury.com/fr/spectacles/spectacles-passes/evenement
 /119-bistro-bar-rossignole-souper-spectacle
END:VEVENT
END:VCALENDAR
