BEGIN:VCALENDAR
VERSION:2.0
PRODID:-//https://www.trampofthecentury.com///NONSGML kigkonsult.se iCalcreator 2.10.15//
METHOD:PUBLISH
BEGIN:VEVENT
UID:20260421T190722UTC-0970IKxR22@https://www.trampofthecentury.com/
DTSTAMP:20260421T190722Z
DESCRIPTION: https://trampofthecentury.com/fr/spectacles/spectacles-a-venir
 /evenement/206-club-dix30
DTSTART;VALUE=DATE:20260814
LOCATION:CLUB DIX-30 (9200 Boulevard Leduc #210\, Brossard\, QC J4Y\, Canad
 a)
SUMMARY:Club Dix30
URL:https://trampofthecentury.com/fr/spectacles/spectacles-a-venir/evenemen
 t/206-club-dix30
END:VEVENT
END:VCALENDAR
