BEGIN:VCALENDAR
VERSION:2.0
PRODID:-//https://www.trampofthecentury.com///NONSGML kigkonsult.se iCalcreator 2.10.15//
METHOD:PUBLISH
BEGIN:VEVENT
UID:20260421T190705UTC-5148CFDEFf@https://www.trampofthecentury.com/
DTSTAMP:20260421T190705Z
DESCRIPTION: https://trampofthecentury.com/fr/spectacles/evenement/194-vieu
 x-clocher-de-magog
DTSTART;VALUE=DATE:20260705
LOCATION:VIEUX CLOCHER DE MAGOG (64 Rue Merry N\, Magog\, QC J1X 2E6\, Cana
 da)
SUMMARY:VIEUX CLOCHER DE MAGOG
URL:https://trampofthecentury.com/fr/spectacles/evenement/194-vieux-clocher
 -de-magog
END:VEVENT
END:VCALENDAR
