BEGIN:VCALENDAR
VERSION:2.0
PRODID:-//https://www.trampofthecentury.com///NONSGML kigkonsult.se iCalcreator 2.10.15//
METHOD:PUBLISH
BEGIN:VEVENT
UID:20260421T190552UTC-59015UT59c@https://www.trampofthecentury.com/
DTSTAMP:20260421T190552Z
DESCRIPTION: https://trampofthecentury.com/en/shows/event/203-theatre-alpho
 se-desjardins
DTSTART;VALUE=DATE:20251219
LOCATION: 25 All. de la Création\, Repentigny\, QC J6A 0C2 ()
SUMMARY:THEATRE ALPHOSE-DESJARDINS
URL:https://trampofthecentury.com/en/shows/event/203-theatre-alphose-desjar
 dins
END:VEVENT
END:VCALENDAR
