BEGIN:VCALENDAR
VERSION:2.0
PRODID:-//https://www.trampofthecentury.com///NONSGML kigkonsult.se iCalcreator 2.10.15//
METHOD:PUBLISH
BEGIN:VEVENT
UID:20260421T190427UTC-2629CK2nsG@https://www.trampofthecentury.com/
DTSTAMP:20260421T190427Z
DESCRIPTION: https://trampofthecentury.com/en/shows/event/149-cafe-bistro-a
 llegro
DTSTART;VALUE=DATE:20260606
LOCATION:Café Bistro Allegro (3091 Boulevard de Mascouche\, Mascouche\, QC 
 J7K\, Canada)
SUMMARY:Café Bistro Allegro
URL:https://trampofthecentury.com/en/shows/event/149-cafe-bistro-allegro
END:VEVENT
END:VCALENDAR
